BEGIN:VCALENDAR
VERSION:2.0
PRODID:-//HSR - ECPv6.15.12.2//NONSGML v1.0//EN
CALSCALE:GREGORIAN
METHOD:PUBLISH
X-ORIGINAL-URL:https://hsrvipra.co.in
X-WR-CALDESC:Events for HSR
REFRESH-INTERVAL;VALUE=DURATION:PT1H
X-Robots-Tag:noindex
X-PUBLISHED-TTL:PT1H
BEGIN:VTIMEZONE
TZID:UTC
BEGIN:STANDARD
TZOFFSETFROM:+0000
TZOFFSETTO:+0000
TZNAME:UTC
DTSTART:20240101T000000
END:STANDARD
END:VTIMEZONE
BEGIN:VEVENT
DTSTART;VALUE=DATE:20250713
DTEND;VALUE=DATE:20250714
DTSTAMP:20260419T135045
CREATED:20250719T132904Z
LAST-MODIFIED:20250719T133509Z
UID:9222-1752364800-1752451199@hsrvipra.co.in
SUMMARY:Gurupurnima on 13th Jul 2025
DESCRIPTION:HSRBBS had organised Gurupurnima on 13th Jul 2025 at Sangha office
URL:https://hsrvipra.co.in/event/gurupurnima-on-13th-jul-2025/
ATTACH;FMTTYPE=image/jpeg:https://hsrvipra.co.in/wp-content/uploads/2025/07/WhatsApp-Image-2025-07-19-at-12.45.36-PM.jpeg
END:VEVENT
END:VCALENDAR