BEGIN:VCALENDAR
VERSION:2.0
PRODID:-//HSR - ECPv6.15.12.2//NONSGML v1.0//EN
CALSCALE:GREGORIAN
METHOD:PUBLISH
X-WR-CALNAME:HSR
X-ORIGINAL-URL:https://hsrvipra.co.in
X-WR-CALDESC:Events for HSR
REFRESH-INTERVAL;VALUE=DURATION:PT1H
X-Robots-Tag:noindex
X-PUBLISHED-TTL:PT1H
BEGIN:VTIMEZONE
TZID:Europe/London
BEGIN:DAYLIGHT
TZOFFSETFROM:+0000
TZOFFSETTO:+0100
TZNAME:BST
DTSTART:20230326T010000
END:DAYLIGHT
BEGIN:STANDARD
TZOFFSETFROM:+0100
TZOFFSETTO:+0000
TZNAME:GMT
DTSTART:20231029T010000
END:STANDARD
BEGIN:DAYLIGHT
TZOFFSETFROM:+0000
TZOFFSETTO:+0100
TZNAME:BST
DTSTART:20240331T010000
END:DAYLIGHT
BEGIN:STANDARD
TZOFFSETFROM:+0100
TZOFFSETTO:+0000
TZNAME:GMT
DTSTART:20241027T010000
END:STANDARD
BEGIN:DAYLIGHT
TZOFFSETFROM:+0000
TZOFFSETTO:+0100
TZNAME:BST
DTSTART:20250330T010000
END:DAYLIGHT
BEGIN:STANDARD
TZOFFSETFROM:+0100
TZOFFSETTO:+0000
TZNAME:GMT
DTSTART:20251026T010000
END:STANDARD
END:VTIMEZONE
BEGIN:VEVENT
DTSTART;VALUE=DATE:20241019
DTEND;VALUE=DATE:20241120
DTSTAMP:20260420T062934
CREATED:20181211T092931Z
LAST-MODIFIED:20241202T104755Z
UID:262-1729296000-1732060799@hsrvipra.co.in
SUMMARY:Annual General Meeting
DESCRIPTION:Annual General Body for the 2023-24 was conducted on Saturday\, the 19th October 2024 at 10.00am at Shakuntala Devi College\, HSR Layout. \nThe meeting was attended in large numbers and we thank our members for making time to participate.  \nThe office bearers shared the annual accounts and the future plans / activities of the Sangha to all the members.  \nAfter the meeting all the members had an informal discussion with the office bearers over buffet lunch. \n 
URL:https://hsrvipra.co.in/event/annual-general-meeting/
LOCATION:Vihara Studio\, 350 5th Ave\, New York\, United States (US) — New York\, 10118
ATTACH;FMTTYPE=image/jpeg:https://hsrvipra.co.in/wp-content/uploads/2018/12/IMG_1292-scaled.jpg
ORGANIZER;CN="Mike Dawson":MAILTO:info@example.com
END:VEVENT
BEGIN:VEVENT
DTSTART;VALUE=DATE:20241211
DTEND;VALUE=DATE:20241212
DTSTAMP:20260420T062934
CREATED:20181211T093420Z
LAST-MODIFIED:20240926T104951Z
UID:264-1733875200-1733961599@hsrvipra.co.in
SUMMARY:ಗೀತಾ ಜಯಂತಿ - 11/12/2024
DESCRIPTION:ಗೀತಾ ಜಯಂತಿಯು ಶ್ರೀಮದ್ ಭಗವದ್ಗೀತೆಯ ಆಗಮನದ ಮಂಗಳಕರ ದಿನವಾಗಿದೆ. ಶ್ರೀಕೃಷ್ಣನು 5000 ವರ್ಷಗಳ ಹಿಂದೆ ಅರ್ಜುನನಿಗೆ ವೈದಿಕ ಜ್ಞಾನದ ಸಾರವನ್ನು ತಿಳಿಸಿದ ಮತ್ತು ಜೀವನದ ಅಂತಿಮ ಗುರಿಯ ಬಗ್ಗೆ ಜ್ಞಾನೋದಯ ಮಾಡಿದ ದಿನ ಇದು. ಗೀತಾ ಜಯಂತಿಯನ್ನು ಭಗವದ್ಗೀತೆಯನ್ನು ಓದುವ ಮತ್ತು ಗುರುಗಳಿಂದ ಭಗವದ್ಗೀತೆಯ ಮಹತ್ವವನ್ನು ತಿಳಿಯುವ ಮೂಲಕ ಆಚರಿಸಲಾಗುತ್ತದೆ
URL:https://hsrvipra.co.in/event/%e0%b2%97%e0%b3%80%e0%b2%a4%e0%b2%be-%e0%b2%9c%e0%b2%af%e0%b2%82%e0%b2%a4%e0%b2%bf-11-12-2024/
LOCATION:Vihara Studio\, 350 5th Ave\, New York\, United States (US) — New York\, 10118
ATTACH;FMTTYPE=image/jpeg:https://hsrvipra.co.in/wp-content/uploads/2024/09/WhatsApp-Image-2024-09-26-at-1.05.22-PM.jpeg
ORGANIZER;CN="Mike Dawson":MAILTO:info@example.com
END:VEVENT
END:VCALENDAR